BEGIN:VCALENDAR
VERSION:2.0
PRODID:-//Flying Aprons Tucson: Cooking Classes for Home Cooks - ECPv6.15.20//NONSGML v1.0//EN
CALSCALE:GREGORIAN
METHOD:PUBLISH
X-WR-CALNAME:Flying Aprons Tucson: Cooking Classes for Home Cooks
X-ORIGINAL-URL:https://flyingapronstucson.com
X-WR-CALDESC:Events for Flying Aprons Tucson: Cooking Classes for Home Cooks
REFRESH-INTERVAL;VALUE=DURATION:PT1H
X-Robots-Tag:noindex
X-PUBLISHED-TTL:PT1H
BEGIN:VTIMEZONE
TZID:America/Phoenix
BEGIN:STANDARD
TZOFFSETFROM:-0700
TZOFFSETTO:-0700
TZNAME:MST
DTSTART:20190101T000000
END:STANDARD
END:VTIMEZONE
BEGIN:VEVENT
DTSTART;TZID=America/Phoenix:20220208T173000
DTEND;TZID=America/Phoenix:20220208T193000
DTSTAMP:20260421T233856
CREATED:20220112T190343Z
LAST-MODIFIED:20220131T011020Z
UID:8325-1644341400-1644348600@flyingapronstucson.com
SUMMARY:In-person Class: The Art of Plating
DESCRIPTION:Tuesday\, February 8\, 5:30 PM – 7:30 PM. In-person Class: The Art of Plating with Chef Miguel Heredia. Cost: $80.00 each.  \nIn celebration of the University of Arizona Museum of Art’s (UAMA) The Art of Food: From the Collections of Jordan D. Schnitzer and His Family Foundation exhibition\, and in collaboration with UAMA\, create your own edible masterpiece with El Charro Café Chef and food artist Miguel Heredia. \nOn the menu in this hands-on class: Flourless Chocolate Coffee Torte with a Mirror Glaze finish\, and the ingredients providing taste\, texture and color to decorate your plate: Chocolate Sand\, Crème Anglaise\, Raspberry Sauce\, Pulverized Almond Brittle\, Raspberry Caviar and Sugar Shards.     \nYou’ll work in groups of two or three preparing the components\, then let your inner artist loose for your custom finishing. As a bonus\, you’ll receive a keepsake to commemorate the experience and have a chance to hear from UAMA’s Curator of Exhibitions\, Olivia Miller.         \nCLASS NOTES: The in-person class\, limited to 16\, will be held at the Catalina United Methodist Church kitchen\, 2700 E. Speedway Blvd. You’ll receive an email with class details 3 days in advance. Please use an email address you frequently check. Our emails can get caught in spam filters or blocked entirely. Please contact us if you don’t receive the class information. \nAll classes and events are nonrefundable. You can request a transfer to a different class or event up to 7 days prior to the class or event. Culinary Boot Camps or workshops require a 14-day notification. Your request must be emailed to flyingapronstucson@gmail.com. If you’re exhibiting COVID-19 symptoms\, contact us immediately at flyingapronstucson@gmail.com. Click here for required in-person waiver.  \nPlease know it may be necessary to cancel select classes if 10 or fewer guests enroll. We apologize in advance for any inconvenience; we’ll personally reach out to each guest in case of cancellation. \nREGISTER AND PAY AT SHOPIFY \nSponsored in part by Tucson Foodie. Tucson’s best restaurants\, covered daily.
URL:https://flyingapronstucson.com/event/2-8-in-person-class-the-art-of-plating/
LOCATION:Catalina United Methodist Church Kitchen\, 2700 E Speedway Blvd\, Tucson\, AZ\, 85719\, United States
CATEGORIES:Baking,Cakes,Cooking Class,Desserts,Valentine's Day
ORGANIZER;CN="Flying Aprons Tucson":MAILTO:Flyingapronstucson@gmail.com
END:VEVENT
BEGIN:VEVENT
DTSTART;TZID=America/Phoenix:20201121T110000
DTEND;TZID=America/Phoenix:20201121T120000
DTSTAMP:20260421T233856
CREATED:20201027T194805Z
LAST-MODIFIED:20201029T213433Z
UID:6459-1605956400-1605960000@flyingapronstucson.com
SUMMARY:Zoom Class: Greek Kouzina - Ouzo Cake with Nancy Jimmerson & Genie Gekas Patterson
DESCRIPTION:Saturday\, Nov. 21\, 11 AM – 12 PM. Zoom Class: Greek Kouzina – Ouzo Cake with Nancy Jimmerson & Genie Gekas Patterson. $40 per household. \nThe November Greek Kouzina features a Tucson spin on a favorite sweet treat – Ouzo Keik (cake). What makes this light cake so special? Ouzo\, of course! And a honey syrup that’s poured over the walnut cake as soon as it come out of the oven\, making it practically melt in your mouth. \nAncient Greek desserts incorporated a lot of nuts and honey into their sweet preparations. Walnuts were abundantly available\, much more so than wheat and other protein-rich grains\, which were scarce and only used to make bread. \nCLASS NOTES: This is a cook along class offered live via the Zoom app. You’ll receive an email with recipes and class details 5 days in advance. Please submit an email address you frequently check. Some time-consuming steps may need to be prepared in advance. Virtual classes are nonrefundable and the Zoom link is not transferable or shareable. \nREGISTER AND PAY AT SHOPIFY \nSponsored in part by TucsonFoodie.com. Tucson’s best restaurants\, covered daily.
URL:https://flyingapronstucson.com/event/zoom-class-greek-kouzina-ouzo-cake-with-nancy-jimmerson-genie-gekas-patterson/
LOCATION:AZ
CATEGORIES:Baking,Cakes,Cooking Class,Desserts,Greek Cuisine,Nancy Jimmerson
ORGANIZER;CN="Flying Aprons Tucson":MAILTO:Flyingapronstucson@gmail.com
END:VEVENT
END:VCALENDAR