BEGIN:VCALENDAR
VERSION:2.0
PRODID:-//Flying Aprons Tucson: Cooking Classes for Home Cooks - ECPv6.15.20//NONSGML v1.0//EN
CALSCALE:GREGORIAN
METHOD:PUBLISH
X-ORIGINAL-URL:https://flyingapronstucson.com
X-WR-CALDESC:Events for Flying Aprons Tucson: Cooking Classes for Home Cooks
REFRESH-INTERVAL;VALUE=DURATION:PT1H
X-Robots-Tag:noindex
X-PUBLISHED-TTL:PT1H
BEGIN:VTIMEZONE
TZID:America/Phoenix
BEGIN:STANDARD
TZOFFSETFROM:-0700
TZOFFSETTO:-0700
TZNAME:MST
DTSTART:20190101T000000
END:STANDARD
END:VTIMEZONE
BEGIN:VEVENT
DTSTART;TZID=America/Phoenix:20201112T173000
DTEND;TZID=America/Phoenix:20201112T190000
DTSTAMP:20260421T171657
CREATED:20201016T225901Z
LAST-MODIFIED:20201029T212448Z
UID:6356-1605202200-1605207600@flyingapronstucson.com
SUMMARY:Zoom Class: Thanksgiving Encore with Iron Chef Wendy Gauthier
DESCRIPTION:Thursday\, Nov. 12\, 5:30 PM – 7:00 PM. Zoom Class: Thanksgiving Encore with Iron Chef Wendy Gauthier. $40 per household.  \nYour Thanksgiving dinner was both a feast and a hit. Now the fridge is filled with leftovers. There’s no need to settle for the same old boring turkey sandwich.   \nWe’ve got it covered. \nWho better than Tucson’s reigning Iron Chef Wendy Gauthier\, owner of Chef Chic\, to show you the incredibly delicious dishes to create from what’s left? After all\, Iron Chefs know how to deal with culinary curveballs. \nOn the menu: A waffle incorporating stuffing topped with an egg and cheese sauce. Secondly\, southwestern turkey enchiladas featuring a cranberry version of enchilada sauce and a pumpkin pie shake. It’s Thanksgiving 2.0. \nCLASS NOTES: This is a cook along class offered live via the Zoom app. You’ll receive an email with recipes and class details 5 days in advance. Please submit an email address you frequently check. Some time-consuming steps may need to be prepared in advance. Virtual classes are nonrefundable and Zoom link is not transferable or shareable. \nREGISTER AND PAY AT SHOPIFY \nSponsored in part by TucsonFoodie.com. Tucson’s best restaurants\, covered daily.
URL:https://flyingapronstucson.com/event/zoom-class-thanksgiving-encore-with-iron-chef-wendy-gauthier/
CATEGORIES:Chef Chic,Chef Wendy Gauthier,Cooking Class,Thanksgiving
ORGANIZER;CN="Flying Aprons Tucson":MAILTO:Flyingapronstucson@gmail.com
END:VEVENT
END:VCALENDAR