BEGIN:VCALENDAR
VERSION:2.0
PRODID:-//Flying Aprons Tucson: Cooking Classes for Home Cooks - ECPv6.15.20//NONSGML v1.0//EN
CALSCALE:GREGORIAN
METHOD:PUBLISH
X-WR-CALNAME:Flying Aprons Tucson: Cooking Classes for Home Cooks
X-ORIGINAL-URL:https://flyingapronstucson.com
X-WR-CALDESC:Events for Flying Aprons Tucson: Cooking Classes for Home Cooks
REFRESH-INTERVAL;VALUE=DURATION:PT1H
X-Robots-Tag:noindex
X-PUBLISHED-TTL:PT1H
BEGIN:VTIMEZONE
TZID:America/Phoenix
BEGIN:STANDARD
TZOFFSETFROM:-0700
TZOFFSETTO:-0700
TZNAME:MST
DTSTART:20210101T000000
END:STANDARD
END:VTIMEZONE
BEGIN:VEVENT
DTSTART;TZID=America/Phoenix:20220331T173000
DTEND;TZID=America/Phoenix:20220331T200000
DTSTAMP:20260421T062543
CREATED:20220310T061119Z
LAST-MODIFIED:20220331T034454Z
UID:8506-1648747800-1648756800@flyingapronstucson.com
SUMMARY:Flavors of Tucson City of Gastronomy with Chef Janos Wilder
DESCRIPTION:Tuesday\, March 31\, 5:30 PM – 8:00 PM. Flavors of Tucson City of Gastronomy with Chef Janos Wilder. Cost: $100.00 per person. \nWho better than James Beard Award-winning Chef Janos Wilder\, credited with creating Southwest cuisine\, to inaugurate our Flavors of Tucson City of Gastronomy series? His James Beard Award in 2000 for Best Chef Southwest helped put Tucson’s culinary scene on the map. \nA driving force of gastronomic localism since the 1980s\, his cuisine is both ingredient and culturally-driven with native and local ingredients at the forefront. You’ll cook along with him in this hands-on class\, eat together a delicious meal as well as understand why Tucson was named the first North American UNESCO City of Gastronomy. \nWith the Santa Cruz Valley’s 4\,000 years of food history in mind\, the menu reflects Chef Janos’ extensive knowledge of regional heritage ingredients\, and he describes the selections as “food of the people”: Chorizo Chilaquiles\, Green Chili Vinaigrette\, Salsa Fresca\, Chilitepin Salsa\, Frijoles Maneados\, Calabacitas Con Queso\, Habanero Pepita Pesto Stuffed Chicken and Chili Colorado Sauce. \nCLASS NOTES: The in-person class\, limited to 16\, will be held at the Catalina United Methodist Church kitchen\, 2700 E. Speedway Blvd. You’ll receive an email with class details 3 days in advance. Please use an email address you frequently check. Our emails can get caught in spam filters or blocked entirely. Please contact us if you don’t receive the class information. \nAll classes and events are nonrefundable. You can request a transfer to a different class or event up to 7 days prior to the class or event. Culinary Boot Camps or workshops require a 14-day notification. Your request must be emailed to flyingapronstucson@gmail.com. If you’re exhibiting COVID-19 symptoms\, contact us immediately at flyingapronstucson@gmail.com. Click here for required in-person waiver.  \nPlease know it may be necessary to cancel select classes if 10 or fewer guests enroll. We apologize in advance for any inconvenience; we’ll personally reach out to each guest in case of cancellation. \nREGISTER AND PAY AT SHOPIFY \nSponsored in part by Tucson Foodie. Tucson’s best restaurants\, covered daily.
URL:https://flyingapronstucson.com/event/in-person-class-flavors-of-the-tucson-city-of-gastronomy-with-chef-janos-wilder/
LOCATION:Catalina United Methodist Church Kitchen\, 2700 E Speedway Blvd\, Tucson\, AZ\, 85719\, United States
CATEGORIES:Chef Janos Wilder,Chicken,Cooking Class,Southwestern Cuisine,Tucson City of Gastronomy,Tucson Heritage Foods
ORGANIZER;CN="Flying Aprons Tucson":MAILTO:Flyingapronstucson@gmail.com
END:VEVENT
END:VCALENDAR