BEGIN:VCALENDAR
VERSION:2.0
PRODID:-//Flying Aprons Tucson: Cooking Classes for Home Cooks - ECPv6.15.20//NONSGML v1.0//EN
CALSCALE:GREGORIAN
METHOD:PUBLISH
X-WR-CALNAME:Flying Aprons Tucson: Cooking Classes for Home Cooks
X-ORIGINAL-URL:https://flyingapronstucson.com
X-WR-CALDESC:Events for Flying Aprons Tucson: Cooking Classes for Home Cooks
REFRESH-INTERVAL;VALUE=DURATION:PT1H
X-Robots-Tag:noindex
X-PUBLISHED-TTL:PT1H
BEGIN:VTIMEZONE
TZID:America/Phoenix
BEGIN:STANDARD
TZOFFSETFROM:-0700
TZOFFSETTO:-0700
TZNAME:MST
DTSTART:20190101T000000
END:STANDARD
END:VTIMEZONE
BEGIN:VEVENT
DTSTART;TZID=America/Phoenix:20200219T180000
DTEND;TZID=America/Phoenix:20200219T203000
DTSTAMP:20260422T130239
CREATED:20200112T230719Z
LAST-MODIFIED:20200212T205153Z
UID:4884-1582135200-1582144200@flyingapronstucson.com
SUMMARY:Celebrate Fat Tuesday w/ The Kingfisher
DESCRIPTION:Wednesday February 19. 6:00P – 8:30P. Jim “Murph” Murphy and Marianne Banes: Celebrate Fat Tuesday! As they say in New Orleans\, laissez les bons temps rouler\, which means let the good times roll before the 40 days of Lent begins. Fat Tuesday is a time for feasting and we’ve got the ideas covered. Chef Jim “Murph” Murphy and Pastry Chef Marianne Banes know how to let the good times roll – they’ve been celebrating Fat Tuesday for 26 years at Kingfisher Bar & Grill. Yes\, including King Cake\, you’ll learn everything you need to know to create your own celebration on February 25 with a menu that includes Crawfish Etouffee\, Rice Pilaf and Beignets. \nREGISTER AND PAY AT SHOPIFY
URL:https://flyingapronstucson.com/event/celebrating-fat-tuesday/
CATEGORIES:Chef Jim Murphy,Chef Marianne Banes,Cooking Class
ORGANIZER;CN="Flying Aprons Tucson":MAILTO:Flyingapronstucson@gmail.com
END:VEVENT
END:VCALENDAR