BEGIN:VCALENDAR
VERSION:2.0
PRODID:-//Flying Aprons Tucson: Cooking Classes for Home Cooks - ECPv6.15.20//NONSGML v1.0//EN
CALSCALE:GREGORIAN
METHOD:PUBLISH
X-WR-CALNAME:Flying Aprons Tucson: Cooking Classes for Home Cooks
X-ORIGINAL-URL:https://flyingapronstucson.com
X-WR-CALDESC:Events for Flying Aprons Tucson: Cooking Classes for Home Cooks
REFRESH-INTERVAL;VALUE=DURATION:PT1H
X-Robots-Tag:noindex
X-PUBLISHED-TTL:PT1H
BEGIN:VTIMEZONE
TZID:America/Phoenix
BEGIN:STANDARD
TZOFFSETFROM:-0700
TZOFFSETTO:-0700
TZNAME:MST
DTSTART:20210101T000000
END:STANDARD
END:VTIMEZONE
BEGIN:VEVENT
DTSTART;TZID=America/Phoenix:20221203T100000
DTEND;TZID=America/Phoenix:20221203T120000
DTSTAMP:20260421T155028
CREATED:20220829T005436Z
LAST-MODIFIED:20221019T042235Z
UID:9172-1670061600-1670068800@flyingapronstucson.com
SUMMARY:Take & Bake: Almond Biscotti
DESCRIPTION:Saturday\, October 22\, 10:00 AM – 12:00 PM. Take & Bake: Almond Biscotti with Chef Barry Infuso. Cost: $75.00 per person.   \nBiscotti is the perfect cookie for dunking in coffee\, tea or wine. A staple of Italian kitchens for generations\, join Certified Executive Chef and Slow Food Southern Arizona President Barry Infuso for a fun morning preparing this twice-baked treat.   \nWe’ll start by sampling the finished almond biscotti\, then see how the cookies look after the first bake and while in the oven for the final step\, you’ll make and shape your dough to take home to bake now or freeze for later. There will be plenty to keep or share – the recipe makes 12 dozen! Chef Barry will also demonstrate decorating options.       \nCLASS NOTES: The in-person class\, limited to 16\, will be held at the Southern Arizona Arts & Cultural Alliance (SAACA) CATALYST Teaching Kitchen at the Tucson Mall\, 4500 N. Oracle Rd.\, Suite 110. You’ll receive an email with class details (everything you’ll need will be provided) 3 days in advance. Please use an email address you frequently check. Our emails can get caught in spam filters or blocked entirely. Please contact us if you don’t receive the class information. \nAll classes\, workshops and events are nonrefundable. You can request a transfer to a different class or event up to 7 days prior to the class or event. Culinary Boot Camps or workshops require a 14-day notification. Your request must be emailed to flyingapronstucson@gmail.com. If you’re exhibiting COVID-19 symptoms\, contact us immediately at flyingapronstucson@gmail.com. Click here for required in-person waiver.  \nPlease know it may be necessary to cancel select classes if 10 or fewer guests enroll. We apologize in advance for any inconvenience; we’ll personally reach out to each guest in case of cancellation. \nREGISTER AND PAY AT SHOPIFY \nSponsored in part by Tucson Foodie. Tucson’s best restaurants\, covered daily.
URL:https://flyingapronstucson.com/event/take-bake-almond-biscotti/
LOCATION:SAACA Catalyst Teaching Kitchen\, 4500 N Oracle Rd\, Ste 110\, Tucson\, AZ\, 85705\, United States
CATEGORIES:Baking,Cookies,Cooking Class,Executive Chef Barry Infuso,Italian Cuisine
ORGANIZER;CN="Flying Aprons Tucson":MAILTO:Flyingapronstucson@gmail.com
END:VEVENT
END:VCALENDAR