BEGIN:VCALENDAR
VERSION:2.0
PRODID:-//Flying Aprons Tucson: Cooking Classes for Home Cooks - ECPv6.15.20//NONSGML v1.0//EN
CALSCALE:GREGORIAN
METHOD:PUBLISH
X-WR-CALNAME:Flying Aprons Tucson: Cooking Classes for Home Cooks
X-ORIGINAL-URL:https://flyingapronstucson.com
X-WR-CALDESC:Events for Flying Aprons Tucson: Cooking Classes for Home Cooks
REFRESH-INTERVAL;VALUE=DURATION:PT1H
X-Robots-Tag:noindex
X-PUBLISHED-TTL:PT1H
BEGIN:VTIMEZONE
TZID:America/Phoenix
BEGIN:STANDARD
TZOFFSETFROM:-0700
TZOFFSETTO:-0700
TZNAME:MST
DTSTART:20190101T000000
END:STANDARD
END:VTIMEZONE
BEGIN:VEVENT
DTSTART;TZID=America/Phoenix:20200304T180000
DTEND;TZID=America/Phoenix:20200304T203000
DTSTAMP:20260422T190600
CREATED:20200112T234937Z
LAST-MODIFIED:20200302T163103Z
UID:4895-1583344800-1583353800@flyingapronstucson.com
SUMMARY:Classic French Desserts w/ Chef Marianne Banes
DESCRIPTION:Wednesday March 4. 6:00P – 8:30P. Chef Marianne Banes: Classic French Desserts. When you think French desserts\, do you imagine laboring in the kitchen for hours using every pot\, pan\, baking sheet and utensil you own? Think again! Pastry Chef Marianne Banes of Kingfisher Bar & Grill\, will share her decades of dessert-making experience to teach you dreamy French bistro desserts so you can feast like a Parisian any night of the week. No need to be intimidated – you’ll master Tarte Tatin\, profiteroles with ice cream and chocolate sauce  and flourless chocolate cake in this hands-on class. \nCLICK HERE TO REGISTER AND PAY AT SHOPIFY
URL:https://flyingapronstucson.com/event/marianne-banes-classic-french-desserts/
CATEGORIES:Cooking Class,French Cuisine
ORGANIZER;CN="Flying Aprons Tucson":MAILTO:Flyingapronstucson@gmail.com
END:VEVENT
END:VCALENDAR