BEGIN:VCALENDAR
VERSION:2.0
PRODID:-//Flying Aprons Tucson: Cooking Classes for Home Cooks - ECPv6.15.20//NONSGML v1.0//EN
CALSCALE:GREGORIAN
METHOD:PUBLISH
X-WR-CALNAME:Flying Aprons Tucson: Cooking Classes for Home Cooks
X-ORIGINAL-URL:https://flyingapronstucson.com
X-WR-CALDESC:Events for Flying Aprons Tucson: Cooking Classes for Home Cooks
REFRESH-INTERVAL;VALUE=DURATION:PT1H
X-Robots-Tag:noindex
X-PUBLISHED-TTL:PT1H
BEGIN:VTIMEZONE
TZID:America/Phoenix
BEGIN:STANDARD
TZOFFSETFROM:-0700
TZOFFSETTO:-0700
TZNAME:MST
DTSTART:20190101T000000
END:STANDARD
END:VTIMEZONE
BEGIN:VEVENT
DTSTART;TZID=America/Phoenix:20200211T180000
DTEND;TZID=America/Phoenix:20200211T203000
DTSTAMP:20260422T042504
CREATED:20200121T194337Z
LAST-MODIFIED:20200206T211329Z
UID:4972-1581444000-1581453000@flyingapronstucson.com
SUMMARY:Chef Ryan Clark: Couple’s Cooking - Romantic Valentine's Day - Love is in the Kitchen
DESCRIPTION:Tuesday February 11. 6:00P – 8:30P. Executive Chef Ryan Clark: Couple’s Cooking – Romantic Valentine’s Day – Love is in the Kitchen. The romantic language of food is what’s on the menu when Executive Chef Ryan Clark of Casino Del Sol\, guides you through the perfect Valentine’s Day menu. Instead of a box of chocolates\, this class is the perfect way to stir up the passion between you and your sweetie. \nCLICK HERE TO REGISTER AND PAY AT SHOPIFY
URL:https://flyingapronstucson.com/event/chef-ryan-clark-couples-cooking-romantic-valentines-day-love-is-in-the-kitchen/
CATEGORIES:Cooking Class,Valentine's Day
ORGANIZER;CN="Flying Aprons Tucson":MAILTO:Flyingapronstucson@gmail.com
END:VEVENT
END:VCALENDAR